BEGIN:VCALENDAR
VERSION:2.0
PRODID:-//Texas Elder Justice Coalition - ECPv6.15.3//NONSGML v1.0//EN
CALSCALE:GREGORIAN
METHOD:PUBLISH
X-WR-CALNAME:Texas Elder Justice Coalition
X-ORIGINAL-URL:https://txelderjustice.org
X-WR-CALDESC:Events for Texas Elder Justice Coalition
REFRESH-INTERVAL;VALUE=DURATION:PT1H
X-Robots-Tag:noindex
X-PUBLISHED-TTL:PT1H
BEGIN:VTIMEZONE
TZID:America/Chicago
BEGIN:DAYLIGHT
TZOFFSETFROM:-0600
TZOFFSETTO:-0500
TZNAME:CDT
DTSTART:20240310T080000
END:DAYLIGHT
BEGIN:STANDARD
TZOFFSETFROM:-0500
TZOFFSETTO:-0600
TZNAME:CST
DTSTART:20241103T070000
END:STANDARD
END:VTIMEZONE
BEGIN:VTIMEZONE
TZID:UTC
BEGIN:STANDARD
TZOFFSETFROM:+0000
TZOFFSETTO:+0000
TZNAME:UTC
DTSTART:20240101T000000
END:STANDARD
END:VTIMEZONE
BEGIN:VEVENT
DTSTART;TZID=America/Chicago:20240911T140000
DTEND;TZID=America/Chicago:20240911T150000
DTSTAMP:20260423T202408
CREATED:20240910T161037Z
LAST-MODIFIED:20240910T165811Z
UID:1141-1726063200-1726066800@txelderjustice.org
SUMMARY:September 2024 Meeting
DESCRIPTION:Contact dhoffman@txelderjustice.org for more details about joining our monthly meeting. \nWednesday September 11\, 2024\, 2pm-3pm \n  \nClick here to join the meeting   Meeting ID: 262 864 068 674   Passcode: LwgXJt \n\n\n\n\nVision \nA future that values and safeguards the financial well-being of older Texans. \nMission\nTo end financial exploitation of older Texans through education\, advocacy\, accountability and collaboration with state and community partners\, ensuring that older adults age with dignity and financial security. \nGoals\n·       Foster collaboration of private and public stakeholders to develop creative solutions against financial exploitation of older Texans. \n  \n·       Raise awareness of financial exploitation among older Texans and the community at large. \n  \n \n\n\n\nAGENDA \n\nWelcome. The meeting is being recorded.\n\n  \n\nPresentation: AARP & TEJC\, Andrea Earl\, Associate State Director of Advocacy and Outreach\, AARP Texas State Office – Austin\n\n  \n\nMinutes\, accepted unless corrections.\n\n  \n\nMarketing updates \n\nSocial stats\n\n\n\nFacebook=15                Linkedin=23                   \nInstagram=9                 Youtube=1 \n  \n\nCommittees \n\nCollaboration\n\nUpcoming presentation – TxAPS Oct 10\n\n\nProfessional education\n\nNewsletters\nSummit save the date\n\n\nOlder adult education and services\n\nStop the Stigma campaign – https://txelderjustice.org/news/stop-the-stigma/\nadd to signature line\n\n\n\n\n\nJoin me in stopping the stigma of reporting financial exploitation. Click here! #stopthestigma \n  \n\nNext monthly meetings\n\n10/9/2024 2-3pm October monthly meeting \nSpeaker: Amy Allen on Legal Aid Resources \n  \n\nNew Business\n\n  \n\nHOT TOPIC Break out rooms –\n\nPotential sponsors/vendors for Summit June 12\, 2025 \nRoom leader email ideas to dhoffman@guardianshipservices.org after meeting \n  \n\nAdjourn\n\n 
URL:https://txelderjustice.org/event/september2024-meeting/
LOCATION:Virtual
CATEGORIES:Community,Local Resources
ATTACH;FMTTYPE=image/png:https://txelderjustice.org/wp-content/uploads/2024/04/TEJC_DoveWeb_Footer.png
ORGANIZER;CN="Dana Hoffman":MAILTO:dhoffman@txelderjustice.org
END:VEVENT
BEGIN:VEVENT
DTSTART;TZID=America/Chicago:20240814T140000
DTEND;TZID=America/Chicago:20240814T150000
DTSTAMP:20260423T202408
CREATED:20240814T172233Z
LAST-MODIFIED:20240814T172538Z
UID:1133-1723644000-1723647600@txelderjustice.org
SUMMARY:August Meeting
DESCRIPTION:Contact dhoffman@txelderjustice.org for more details about joining our monthly meeting. \nAGENDA \nPresentation: Lone Star Synergy: Collaborative Approaches to Elder Justice in Texas\, Brad Cannell\, PhD\, MPH (he/him/his)\, Associate Professor Elder Mistreatment Lead\, UTHealth Institute of Aging \n  \nMinutes\, accepted unless corrections. \n  \nMarketing updates  \n\n\n\norg\, #1 in search results now!\nSocial media (links at bottom of agenda)\n\n\n\n  \nCommittees  \n\n\n\nCollaboration\n\nTEJC Recruiting flyer – updated again\n\n\nProfessional education\n\nNewsletters\nSummit\n\n\n\n\n\n\nRecognition award for summit\n\n\nOlder adult education and services\n\nStop the Stigma campaign – https://txelderjustice.org/news/stop-the-stigma/\nadd to signature line\n\n\n\nJoin me in stopping the stigma of reporting financial exploitation. Click here! #stopthestigma \n  \nNext monthly meetings \n9/11/24 2-3pm  September monthly meeting \nSpeaker: Andrea Earl on upcoming Legislation \n10/9/2024 2-3pm October monthly meeting \nSpeaker: Amy Allen on Legal Aid Resources \n  \nNew Business \n  \nHOT TOPIC Break out rooms – dream speakers & topics for Summit in June 2025. Room leader email ideas to dhoffman@guardianshipservices.org after meeting \n  \nAdjourn \n  \n\nAction items – follow socials @texaselderjusticecoalition or click on links below.\n\nFacebook        Linkedin           Instagram              Youtube
URL:https://txelderjustice.org/event/2024augustmeeting/
LOCATION:Virtual
CATEGORIES:Community,Local Resources,Pep Rally
ATTACH;FMTTYPE=image/png:https://txelderjustice.org/wp-content/uploads/2024/04/TEJC_DoveWeb_Footer.png
ORGANIZER;CN="Dana Hoffman":MAILTO:dhoffman@txelderjustice.org
END:VEVENT
BEGIN:VEVENT
DTSTART;TZID=UTC:20240614T183000
DTEND;TZID=UTC:20240614T200000
DTSTAMP:20260423T202408
CREATED:20240607T152426Z
LAST-MODIFIED:20240607T152426Z
UID:1007-1718389800-1718395200@txelderjustice.org
SUMMARY:WEAAD Purple Pep Rally
DESCRIPTION:We are pleased to inform you about the World Elder Abuse Awareness Day (WEAAD) Event. This event will take place on Friday\, June 14\, 2024\, from 6:30 pm to 8:00 pm. Wear purple in honor of World Elder Abuse Awareness Day. \nThis event will provide local seniors\, their caretakers\, service providers\, stakeholders\, and others interested in the prevention of Elder Abuse with information on county\, state\, and local resources.
URL:https://txelderjustice.org/event/weaad-purple-pep-rally/
LOCATION:EECU Credit Union\, 1617 West 7th Street\, Fort Worth\, Texas\, 76102
CATEGORIES:Community,Local Resources,Pep Rally
ATTACH;FMTTYPE=image/jpeg:https://txelderjustice.org/wp-content/uploads/2024/06/WEAAD-Event-Image.jpg
ORGANIZER;CN="Dana Hoffman":MAILTO:dhoffman@txelderjustice.org
END:VEVENT
END:VCALENDAR